BEGIN:VCALENDAR
VERSION:2.0
PRODID:-//almadetao - ECPv6.15.14//NONSGML v1.0//EN
CALSCALE:GREGORIAN
METHOD:PUBLISH
X-WR-CALNAME:almadetao
X-ORIGINAL-URL:https://www.almadetao.com
X-WR-CALDESC:Eventos para almadetao
REFRESH-INTERVAL;VALUE=DURATION:PT1H
X-Robots-Tag:noindex
X-PUBLISHED-TTL:PT1H
BEGIN:VTIMEZONE
TZID:Europe/Madrid
BEGIN:DAYLIGHT
TZOFFSETFROM:+0100
TZOFFSETTO:+0200
TZNAME:CEST
DTSTART:20230326T010000
END:DAYLIGHT
BEGIN:STANDARD
TZOFFSETFROM:+0200
TZOFFSETTO:+0100
TZNAME:CET
DTSTART:20231029T010000
END:STANDARD
BEGIN:DAYLIGHT
TZOFFSETFROM:+0100
TZOFFSETTO:+0200
TZNAME:CEST
DTSTART:20240331T010000
END:DAYLIGHT
BEGIN:STANDARD
TZOFFSETFROM:+0200
TZOFFSETTO:+0100
TZNAME:CET
DTSTART:20241027T010000
END:STANDARD
BEGIN:DAYLIGHT
TZOFFSETFROM:+0100
TZOFFSETTO:+0200
TZNAME:CEST
DTSTART:20250330T010000
END:DAYLIGHT
BEGIN:STANDARD
TZOFFSETFROM:+0200
TZOFFSETTO:+0100
TZNAME:CET
DTSTART:20251026T010000
END:STANDARD
END:VTIMEZONE
BEGIN:VEVENT
DTSTART;TZID=Europe/Madrid:20240402T100000
DTEND;TZID=Europe/Madrid:20240402T111500
DTSTAMP:20260424T140447
CREATED:20230110T161148Z
LAST-MODIFIED:20231229T192344Z
UID:10000769-1712052000-1712056500@www.almadetao.com
SUMMARY:Clase de TAO YIN - CHI KUNG. Presencial y Online
DESCRIPTION:
URL:https://www.almadetao.com/agenda/clase-de-tao-yin-chi-kung-presencial/2024-04-02/
LOCATION:almadetao\, Calle Gran Vía 33\, 6º-7\, Madrid\, Comunidad de Madrid\, 28013\, España
CATEGORIES:Agenda
ATTACH;FMTTYPE=image/jpeg:https://www.almadetao.com/wp-content/uploads/Foto-clase-calendario-para-web-1.jpg
ORGANIZER;CN="almadetao":MAILTO:tao@almadetao.com
END:VEVENT
BEGIN:VEVENT
DTSTART;TZID=Europe/Madrid:20240402T180000
DTEND;TZID=Europe/Madrid:20240402T191500
DTSTAMP:20260424T140447
CREATED:20240627T081744Z
LAST-MODIFIED:20240627T081744Z
UID:10000814-1712080800-1712085300@www.almadetao.com
SUMMARY:Clase de TAO YIN - CHI KUNG. Presencial y Online
DESCRIPTION:
URL:https://www.almadetao.com/agenda/clase-de-tao-yin-chi-kung-presencial/2024-04-02/
LOCATION:almadetao\, Calle Gran Vía 33\, 6º-7\, Madrid\, Comunidad de Madrid\, 28013\, España
CATEGORIES:Agenda
ATTACH;FMTTYPE=image/jpeg:https://www.almadetao.com/wp-content/uploads/Foto-clase-calendario-para-web-1.jpg
ORGANIZER;CN="almadetao":MAILTO:tao@almadetao.com
END:VEVENT
BEGIN:VEVENT
DTSTART;TZID=Europe/Madrid:20240404T100000
DTEND;TZID=Europe/Madrid:20240404T111500
DTSTAMP:20260424T140447
CREATED:20230110T161148Z
LAST-MODIFIED:20231229T192344Z
UID:10000770-1712224800-1712229300@www.almadetao.com
SUMMARY:Clase de TAO YIN - CHI KUNG. Presencial y Online
DESCRIPTION:
URL:https://www.almadetao.com/agenda/clase-de-tao-yin-chi-kung-presencial/2024-04-04/
LOCATION:almadetao\, Calle Gran Vía 33\, 6º-7\, Madrid\, Comunidad de Madrid\, 28013\, España
CATEGORIES:Agenda
ATTACH;FMTTYPE=image/jpeg:https://www.almadetao.com/wp-content/uploads/Foto-clase-calendario-para-web-1.jpg
ORGANIZER;CN="almadetao":MAILTO:tao@almadetao.com
END:VEVENT
BEGIN:VEVENT
DTSTART;TZID=Europe/Madrid:20240404T113000
DTEND;TZID=Europe/Madrid:20240404T124500
DTSTAMP:20260424T140447
CREATED:20230109T195950Z
LAST-MODIFIED:20231229T190753Z
UID:10000623-1712230200-1712234700@www.almadetao.com
SUMMARY:Clase de TAO YIN - CHI KUNG. Presencial
DESCRIPTION:
URL:https://www.almadetao.com/agenda/clase-de-tao-yin-chi-kung-online-y-presencial/2024-04-04/
LOCATION:almadetao\, Calle Gran Vía 33\, 6º-7\, Madrid\, Comunidad de Madrid\, 28013\, España
CATEGORIES:Agenda
ATTACH;FMTTYPE=image/jpeg:https://www.almadetao.com/wp-content/uploads/Foto-clase-calendario-para-web-1.jpg
ORGANIZER;CN="almadetao":MAILTO:tao@almadetao.com
END:VEVENT
BEGIN:VEVENT
DTSTART;TZID=Europe/Madrid:20240404T180000
DTEND;TZID=Europe/Madrid:20240404T191500
DTSTAMP:20260424T140447
CREATED:20240627T081740Z
LAST-MODIFIED:20240627T081740Z
UID:10000676-1712253600-1712258100@www.almadetao.com
SUMMARY:Clase de TAO YIN - CHI KUNG. Presencial
DESCRIPTION:
URL:https://www.almadetao.com/agenda/clase-de-tao-yin-chi-kung-online-y-presencial/2024-04-04/
LOCATION:almadetao\, Calle Gran Vía 33\, 6º-7\, Madrid\, Comunidad de Madrid\, 28013\, España
CATEGORIES:Agenda
ATTACH;FMTTYPE=image/jpeg:https://www.almadetao.com/wp-content/uploads/Foto-clase-calendario-para-web-1.jpg
ORGANIZER;CN="almadetao":MAILTO:tao@almadetao.com
END:VEVENT
BEGIN:VEVENT
DTSTART;TZID=Europe/Madrid:20240404T193000
DTEND;TZID=Europe/Madrid:20240404T204500
DTSTAMP:20260424T140447
CREATED:20240627T081745Z
LAST-MODIFIED:20240627T081745Z
UID:10000844-1712259000-1712263500@www.almadetao.com
SUMMARY:Clase de TAO YIN - CHI KUNG. Presencial y Online
DESCRIPTION:
URL:https://www.almadetao.com/agenda/clase-de-tao-yin-chi-kung-presencial/2024-04-04/
LOCATION:almadetao\, Calle Gran Vía 33\, 6º-7\, Madrid\, Comunidad de Madrid\, 28013\, España
CATEGORIES:Agenda
ATTACH;FMTTYPE=image/jpeg:https://www.almadetao.com/wp-content/uploads/Foto-clase-calendario-para-web-1.jpg
ORGANIZER;CN="almadetao":MAILTO:tao@almadetao.com
END:VEVENT
BEGIN:VEVENT
DTSTART;TZID=Europe/Madrid:20240409T100000
DTEND;TZID=Europe/Madrid:20240409T111500
DTSTAMP:20260424T140447
CREATED:20230110T161148Z
LAST-MODIFIED:20231229T192344Z
UID:10000771-1712656800-1712661300@www.almadetao.com
SUMMARY:Clase de TAO YIN - CHI KUNG. Presencial y Online
DESCRIPTION:
URL:https://www.almadetao.com/agenda/clase-de-tao-yin-chi-kung-presencial/2024-04-09/
LOCATION:almadetao\, Calle Gran Vía 33\, 6º-7\, Madrid\, Comunidad de Madrid\, 28013\, España
CATEGORIES:Agenda
ATTACH;FMTTYPE=image/jpeg:https://www.almadetao.com/wp-content/uploads/Foto-clase-calendario-para-web-1.jpg
ORGANIZER;CN="almadetao":MAILTO:tao@almadetao.com
END:VEVENT
BEGIN:VEVENT
DTSTART;TZID=Europe/Madrid:20240409T180000
DTEND;TZID=Europe/Madrid:20240409T191500
DTSTAMP:20260424T140447
CREATED:20240627T081744Z
LAST-MODIFIED:20240627T081744Z
UID:10000815-1712685600-1712690100@www.almadetao.com
SUMMARY:Clase de TAO YIN - CHI KUNG. Presencial y Online
DESCRIPTION:
URL:https://www.almadetao.com/agenda/clase-de-tao-yin-chi-kung-presencial/2024-04-09/
LOCATION:almadetao\, Calle Gran Vía 33\, 6º-7\, Madrid\, Comunidad de Madrid\, 28013\, España
CATEGORIES:Agenda
ATTACH;FMTTYPE=image/jpeg:https://www.almadetao.com/wp-content/uploads/Foto-clase-calendario-para-web-1.jpg
ORGANIZER;CN="almadetao":MAILTO:tao@almadetao.com
END:VEVENT
BEGIN:VEVENT
DTSTART;TZID=Europe/Madrid:20240411T100000
DTEND;TZID=Europe/Madrid:20240411T111500
DTSTAMP:20260424T140447
CREATED:20230110T161148Z
LAST-MODIFIED:20231229T192344Z
UID:10000772-1712829600-1712834100@www.almadetao.com
SUMMARY:Clase de TAO YIN - CHI KUNG. Presencial y Online
DESCRIPTION:
URL:https://www.almadetao.com/agenda/clase-de-tao-yin-chi-kung-presencial/2024-04-11/
LOCATION:almadetao\, Calle Gran Vía 33\, 6º-7\, Madrid\, Comunidad de Madrid\, 28013\, España
CATEGORIES:Agenda
ATTACH;FMTTYPE=image/jpeg:https://www.almadetao.com/wp-content/uploads/Foto-clase-calendario-para-web-1.jpg
ORGANIZER;CN="almadetao":MAILTO:tao@almadetao.com
END:VEVENT
BEGIN:VEVENT
DTSTART;TZID=Europe/Madrid:20240411T113000
DTEND;TZID=Europe/Madrid:20240411T124500
DTSTAMP:20260424T140447
CREATED:20230109T195950Z
LAST-MODIFIED:20231229T190753Z
UID:10000624-1712835000-1712839500@www.almadetao.com
SUMMARY:Clase de TAO YIN - CHI KUNG. Presencial
DESCRIPTION:
URL:https://www.almadetao.com/agenda/clase-de-tao-yin-chi-kung-online-y-presencial/2024-04-11/
LOCATION:almadetao\, Calle Gran Vía 33\, 6º-7\, Madrid\, Comunidad de Madrid\, 28013\, España
CATEGORIES:Agenda
ATTACH;FMTTYPE=image/jpeg:https://www.almadetao.com/wp-content/uploads/Foto-clase-calendario-para-web-1.jpg
ORGANIZER;CN="almadetao":MAILTO:tao@almadetao.com
END:VEVENT
BEGIN:VEVENT
DTSTART;TZID=Europe/Madrid:20240411T180000
DTEND;TZID=Europe/Madrid:20240411T191500
DTSTAMP:20260424T140447
CREATED:20240627T081740Z
LAST-MODIFIED:20240627T081740Z
UID:10000677-1712858400-1712862900@www.almadetao.com
SUMMARY:Clase de TAO YIN - CHI KUNG. Presencial
DESCRIPTION:
URL:https://www.almadetao.com/agenda/clase-de-tao-yin-chi-kung-online-y-presencial/2024-04-11/
LOCATION:almadetao\, Calle Gran Vía 33\, 6º-7\, Madrid\, Comunidad de Madrid\, 28013\, España
CATEGORIES:Agenda
ATTACH;FMTTYPE=image/jpeg:https://www.almadetao.com/wp-content/uploads/Foto-clase-calendario-para-web-1.jpg
ORGANIZER;CN="almadetao":MAILTO:tao@almadetao.com
END:VEVENT
BEGIN:VEVENT
DTSTART;TZID=Europe/Madrid:20240411T193000
DTEND;TZID=Europe/Madrid:20240411T204500
DTSTAMP:20260424T140447
CREATED:20240627T081745Z
LAST-MODIFIED:20240627T081745Z
UID:10000845-1712863800-1712868300@www.almadetao.com
SUMMARY:Clase de TAO YIN - CHI KUNG. Presencial y Online
DESCRIPTION:
URL:https://www.almadetao.com/agenda/clase-de-tao-yin-chi-kung-presencial/2024-04-11/
LOCATION:almadetao\, Calle Gran Vía 33\, 6º-7\, Madrid\, Comunidad de Madrid\, 28013\, España
CATEGORIES:Agenda
ATTACH;FMTTYPE=image/jpeg:https://www.almadetao.com/wp-content/uploads/Foto-clase-calendario-para-web-1.jpg
ORGANIZER;CN="almadetao":MAILTO:tao@almadetao.com
END:VEVENT
BEGIN:VEVENT
DTSTART;TZID=Europe/Madrid:20240416T100000
DTEND;TZID=Europe/Madrid:20240416T111500
DTSTAMP:20260424T140447
CREATED:20230110T161148Z
LAST-MODIFIED:20231229T192344Z
UID:10000773-1713261600-1713266100@www.almadetao.com
SUMMARY:Clase de TAO YIN - CHI KUNG. Presencial y Online
DESCRIPTION:
URL:https://www.almadetao.com/agenda/clase-de-tao-yin-chi-kung-presencial/2024-04-16/
LOCATION:almadetao\, Calle Gran Vía 33\, 6º-7\, Madrid\, Comunidad de Madrid\, 28013\, España
CATEGORIES:Agenda
ATTACH;FMTTYPE=image/jpeg:https://www.almadetao.com/wp-content/uploads/Foto-clase-calendario-para-web-1.jpg
ORGANIZER;CN="almadetao":MAILTO:tao@almadetao.com
END:VEVENT
BEGIN:VEVENT
DTSTART;TZID=Europe/Madrid:20240416T180000
DTEND;TZID=Europe/Madrid:20240416T191500
DTSTAMP:20260424T140447
CREATED:20240627T081744Z
LAST-MODIFIED:20240627T081744Z
UID:10000816-1713290400-1713294900@www.almadetao.com
SUMMARY:Clase de TAO YIN - CHI KUNG. Presencial y Online
DESCRIPTION:
URL:https://www.almadetao.com/agenda/clase-de-tao-yin-chi-kung-presencial/2024-04-16/
LOCATION:almadetao\, Calle Gran Vía 33\, 6º-7\, Madrid\, Comunidad de Madrid\, 28013\, España
CATEGORIES:Agenda
ATTACH;FMTTYPE=image/jpeg:https://www.almadetao.com/wp-content/uploads/Foto-clase-calendario-para-web-1.jpg
ORGANIZER;CN="almadetao":MAILTO:tao@almadetao.com
END:VEVENT
BEGIN:VEVENT
DTSTART;TZID=Europe/Madrid:20240418T100000
DTEND;TZID=Europe/Madrid:20240418T111500
DTSTAMP:20260424T140447
CREATED:20230110T161148Z
LAST-MODIFIED:20231229T192344Z
UID:10000774-1713434400-1713438900@www.almadetao.com
SUMMARY:Clase de TAO YIN - CHI KUNG. Presencial y Online
DESCRIPTION:
URL:https://www.almadetao.com/agenda/clase-de-tao-yin-chi-kung-presencial/2024-04-18/
LOCATION:almadetao\, Calle Gran Vía 33\, 6º-7\, Madrid\, Comunidad de Madrid\, 28013\, España
CATEGORIES:Agenda
ATTACH;FMTTYPE=image/jpeg:https://www.almadetao.com/wp-content/uploads/Foto-clase-calendario-para-web-1.jpg
ORGANIZER;CN="almadetao":MAILTO:tao@almadetao.com
END:VEVENT
BEGIN:VEVENT
DTSTART;TZID=Europe/Madrid:20240418T113000
DTEND;TZID=Europe/Madrid:20240418T124500
DTSTAMP:20260424T140447
CREATED:20230109T195950Z
LAST-MODIFIED:20231229T190753Z
UID:10000625-1713439800-1713444300@www.almadetao.com
SUMMARY:Clase de TAO YIN - CHI KUNG. Presencial
DESCRIPTION:
URL:https://www.almadetao.com/agenda/clase-de-tao-yin-chi-kung-online-y-presencial/2024-04-18/
LOCATION:almadetao\, Calle Gran Vía 33\, 6º-7\, Madrid\, Comunidad de Madrid\, 28013\, España
CATEGORIES:Agenda
ATTACH;FMTTYPE=image/jpeg:https://www.almadetao.com/wp-content/uploads/Foto-clase-calendario-para-web-1.jpg
ORGANIZER;CN="almadetao":MAILTO:tao@almadetao.com
END:VEVENT
BEGIN:VEVENT
DTSTART;TZID=Europe/Madrid:20240418T180000
DTEND;TZID=Europe/Madrid:20240418T191500
DTSTAMP:20260424T140447
CREATED:20240627T081740Z
LAST-MODIFIED:20240627T081740Z
UID:10000678-1713463200-1713467700@www.almadetao.com
SUMMARY:Clase de TAO YIN - CHI KUNG. Presencial
DESCRIPTION:
URL:https://www.almadetao.com/agenda/clase-de-tao-yin-chi-kung-online-y-presencial/2024-04-18/
LOCATION:almadetao\, Calle Gran Vía 33\, 6º-7\, Madrid\, Comunidad de Madrid\, 28013\, España
CATEGORIES:Agenda
ATTACH;FMTTYPE=image/jpeg:https://www.almadetao.com/wp-content/uploads/Foto-clase-calendario-para-web-1.jpg
ORGANIZER;CN="almadetao":MAILTO:tao@almadetao.com
END:VEVENT
BEGIN:VEVENT
DTSTART;TZID=Europe/Madrid:20240418T193000
DTEND;TZID=Europe/Madrid:20240418T204500
DTSTAMP:20260424T140447
CREATED:20240627T081745Z
LAST-MODIFIED:20240627T081745Z
UID:10000846-1713468600-1713473100@www.almadetao.com
SUMMARY:Clase de TAO YIN - CHI KUNG. Presencial y Online
DESCRIPTION:
URL:https://www.almadetao.com/agenda/clase-de-tao-yin-chi-kung-presencial/2024-04-18/
LOCATION:almadetao\, Calle Gran Vía 33\, 6º-7\, Madrid\, Comunidad de Madrid\, 28013\, España
CATEGORIES:Agenda
ATTACH;FMTTYPE=image/jpeg:https://www.almadetao.com/wp-content/uploads/Foto-clase-calendario-para-web-1.jpg
ORGANIZER;CN="almadetao":MAILTO:tao@almadetao.com
END:VEVENT
BEGIN:VEVENT
DTSTART;TZID=Europe/Madrid:20240423T100000
DTEND;TZID=Europe/Madrid:20240423T111500
DTSTAMP:20260424T140447
CREATED:20230110T161148Z
LAST-MODIFIED:20231229T192344Z
UID:10000775-1713866400-1713870900@www.almadetao.com
SUMMARY:Clase de TAO YIN - CHI KUNG. Presencial y Online
DESCRIPTION:
URL:https://www.almadetao.com/agenda/clase-de-tao-yin-chi-kung-presencial/2024-04-23/
LOCATION:almadetao\, Calle Gran Vía 33\, 6º-7\, Madrid\, Comunidad de Madrid\, 28013\, España
CATEGORIES:Agenda
ATTACH;FMTTYPE=image/jpeg:https://www.almadetao.com/wp-content/uploads/Foto-clase-calendario-para-web-1.jpg
ORGANIZER;CN="almadetao":MAILTO:tao@almadetao.com
END:VEVENT
BEGIN:VEVENT
DTSTART;TZID=Europe/Madrid:20240423T180000
DTEND;TZID=Europe/Madrid:20240423T191500
DTSTAMP:20260424T140447
CREATED:20240627T081744Z
LAST-MODIFIED:20240627T081744Z
UID:10000817-1713895200-1713899700@www.almadetao.com
SUMMARY:Clase de TAO YIN - CHI KUNG. Presencial y Online
DESCRIPTION:
URL:https://www.almadetao.com/agenda/clase-de-tao-yin-chi-kung-presencial/2024-04-23/
LOCATION:almadetao\, Calle Gran Vía 33\, 6º-7\, Madrid\, Comunidad de Madrid\, 28013\, España
CATEGORIES:Agenda
ATTACH;FMTTYPE=image/jpeg:https://www.almadetao.com/wp-content/uploads/Foto-clase-calendario-para-web-1.jpg
ORGANIZER;CN="almadetao":MAILTO:tao@almadetao.com
END:VEVENT
BEGIN:VEVENT
DTSTART;TZID=Europe/Madrid:20240425T100000
DTEND;TZID=Europe/Madrid:20240425T111500
DTSTAMP:20260424T140447
CREATED:20230110T161148Z
LAST-MODIFIED:20231229T192344Z
UID:10000776-1714039200-1714043700@www.almadetao.com
SUMMARY:Clase de TAO YIN - CHI KUNG. Presencial y Online
DESCRIPTION:
URL:https://www.almadetao.com/agenda/clase-de-tao-yin-chi-kung-presencial/2024-04-25/
LOCATION:almadetao\, Calle Gran Vía 33\, 6º-7\, Madrid\, Comunidad de Madrid\, 28013\, España
CATEGORIES:Agenda
ATTACH;FMTTYPE=image/jpeg:https://www.almadetao.com/wp-content/uploads/Foto-clase-calendario-para-web-1.jpg
ORGANIZER;CN="almadetao":MAILTO:tao@almadetao.com
END:VEVENT
BEGIN:VEVENT
DTSTART;TZID=Europe/Madrid:20240425T113000
DTEND;TZID=Europe/Madrid:20240425T124500
DTSTAMP:20260424T140447
CREATED:20230109T195950Z
LAST-MODIFIED:20231229T190753Z
UID:10000626-1714044600-1714049100@www.almadetao.com
SUMMARY:Clase de TAO YIN - CHI KUNG. Presencial
DESCRIPTION:
URL:https://www.almadetao.com/agenda/clase-de-tao-yin-chi-kung-online-y-presencial/2024-04-25/
LOCATION:almadetao\, Calle Gran Vía 33\, 6º-7\, Madrid\, Comunidad de Madrid\, 28013\, España
CATEGORIES:Agenda
ATTACH;FMTTYPE=image/jpeg:https://www.almadetao.com/wp-content/uploads/Foto-clase-calendario-para-web-1.jpg
ORGANIZER;CN="almadetao":MAILTO:tao@almadetao.com
END:VEVENT
BEGIN:VEVENT
DTSTART;TZID=Europe/Madrid:20240425T180000
DTEND;TZID=Europe/Madrid:20240425T191500
DTSTAMP:20260424T140447
CREATED:20240627T081740Z
LAST-MODIFIED:20240627T081740Z
UID:10000679-1714068000-1714072500@www.almadetao.com
SUMMARY:Clase de TAO YIN - CHI KUNG. Presencial
DESCRIPTION:
URL:https://www.almadetao.com/agenda/clase-de-tao-yin-chi-kung-online-y-presencial/2024-04-25/
LOCATION:almadetao\, Calle Gran Vía 33\, 6º-7\, Madrid\, Comunidad de Madrid\, 28013\, España
CATEGORIES:Agenda
ATTACH;FMTTYPE=image/jpeg:https://www.almadetao.com/wp-content/uploads/Foto-clase-calendario-para-web-1.jpg
ORGANIZER;CN="almadetao":MAILTO:tao@almadetao.com
END:VEVENT
BEGIN:VEVENT
DTSTART;TZID=Europe/Madrid:20240425T193000
DTEND;TZID=Europe/Madrid:20240425T204500
DTSTAMP:20260424T140447
CREATED:20240627T081745Z
LAST-MODIFIED:20240627T081745Z
UID:10000847-1714073400-1714077900@www.almadetao.com
SUMMARY:Clase de TAO YIN - CHI KUNG. Presencial y Online
DESCRIPTION:
URL:https://www.almadetao.com/agenda/clase-de-tao-yin-chi-kung-presencial/2024-04-25/
LOCATION:almadetao\, Calle Gran Vía 33\, 6º-7\, Madrid\, Comunidad de Madrid\, 28013\, España
CATEGORIES:Agenda
ATTACH;FMTTYPE=image/jpeg:https://www.almadetao.com/wp-content/uploads/Foto-clase-calendario-para-web-1.jpg
ORGANIZER;CN="almadetao":MAILTO:tao@almadetao.com
END:VEVENT
BEGIN:VEVENT
DTSTART;TZID=Europe/Madrid:20240430T100000
DTEND;TZID=Europe/Madrid:20240430T111500
DTSTAMP:20260424T140447
CREATED:20230110T161148Z
LAST-MODIFIED:20231229T192344Z
UID:10000777-1714471200-1714475700@www.almadetao.com
SUMMARY:Clase de TAO YIN - CHI KUNG. Presencial y Online
DESCRIPTION:
URL:https://www.almadetao.com/agenda/clase-de-tao-yin-chi-kung-presencial/2024-04-30/
LOCATION:almadetao\, Calle Gran Vía 33\, 6º-7\, Madrid\, Comunidad de Madrid\, 28013\, España
CATEGORIES:Agenda
ATTACH;FMTTYPE=image/jpeg:https://www.almadetao.com/wp-content/uploads/Foto-clase-calendario-para-web-1.jpg
ORGANIZER;CN="almadetao":MAILTO:tao@almadetao.com
END:VEVENT
BEGIN:VEVENT
DTSTART;TZID=Europe/Madrid:20240430T180000
DTEND;TZID=Europe/Madrid:20240430T191500
DTSTAMP:20260424T140447
CREATED:20240627T081744Z
LAST-MODIFIED:20240627T081744Z
UID:10000818-1714500000-1714504500@www.almadetao.com
SUMMARY:Clase de TAO YIN - CHI KUNG. Presencial y Online
DESCRIPTION:
URL:https://www.almadetao.com/agenda/clase-de-tao-yin-chi-kung-presencial/2024-04-30/
LOCATION:almadetao\, Calle Gran Vía 33\, 6º-7\, Madrid\, Comunidad de Madrid\, 28013\, España
CATEGORIES:Agenda
ATTACH;FMTTYPE=image/jpeg:https://www.almadetao.com/wp-content/uploads/Foto-clase-calendario-para-web-1.jpg
ORGANIZER;CN="almadetao":MAILTO:tao@almadetao.com
END:VEVENT
END:VCALENDAR