BEGIN:VCALENDAR
VERSION:2.0
PRODID:-//almadetao - ECPv6.15.14//NONSGML v1.0//EN
CALSCALE:GREGORIAN
METHOD:PUBLISH
X-WR-CALNAME:almadetao
X-ORIGINAL-URL:https://www.almadetao.com
X-WR-CALDESC:Eventos para almadetao
REFRESH-INTERVAL;VALUE=DURATION:PT1H
X-Robots-Tag:noindex
X-PUBLISHED-TTL:PT1H
BEGIN:VTIMEZONE
TZID:Europe/Madrid
BEGIN:DAYLIGHT
TZOFFSETFROM:+0100
TZOFFSETTO:+0200
TZNAME:CEST
DTSTART:20230326T010000
END:DAYLIGHT
BEGIN:STANDARD
TZOFFSETFROM:+0200
TZOFFSETTO:+0100
TZNAME:CET
DTSTART:20231029T010000
END:STANDARD
BEGIN:DAYLIGHT
TZOFFSETFROM:+0100
TZOFFSETTO:+0200
TZNAME:CEST
DTSTART:20240331T010000
END:DAYLIGHT
BEGIN:STANDARD
TZOFFSETFROM:+0200
TZOFFSETTO:+0100
TZNAME:CET
DTSTART:20241027T010000
END:STANDARD
BEGIN:DAYLIGHT
TZOFFSETFROM:+0100
TZOFFSETTO:+0200
TZNAME:CEST
DTSTART:20250330T010000
END:DAYLIGHT
BEGIN:STANDARD
TZOFFSETFROM:+0200
TZOFFSETTO:+0100
TZNAME:CET
DTSTART:20251026T010000
END:STANDARD
END:VTIMEZONE
BEGIN:VEVENT
DTSTART;TZID=Europe/Madrid:20240109T100000
DTEND;TZID=Europe/Madrid:20240109T111500
DTSTAMP:20260424T183539
CREATED:20230110T161148Z
LAST-MODIFIED:20231229T192344Z
UID:10000746-1704794400-1704798900@www.almadetao.com
SUMMARY:Clase de TAO YIN - CHI KUNG. Presencial y Online
DESCRIPTION:
URL:https://www.almadetao.com/agenda/clase-de-tao-yin-chi-kung-presencial/2024-01-09/
LOCATION:almadetao\, Calle Gran Vía 33\, 6º-7\, Madrid\, Comunidad de Madrid\, 28013\, España
CATEGORIES:Agenda
ATTACH;FMTTYPE=image/jpeg:https://www.almadetao.com/wp-content/uploads/Foto-clase-calendario-para-web-1.jpg
ORGANIZER;CN="almadetao":MAILTO:tao@almadetao.com
END:VEVENT
BEGIN:VEVENT
DTSTART;TZID=Europe/Madrid:20240111T100000
DTEND;TZID=Europe/Madrid:20240111T111500
DTSTAMP:20260424T183539
CREATED:20230110T161148Z
LAST-MODIFIED:20231229T192344Z
UID:10000747-1704967200-1704971700@www.almadetao.com
SUMMARY:Clase de TAO YIN - CHI KUNG. Presencial y Online
DESCRIPTION:
URL:https://www.almadetao.com/agenda/clase-de-tao-yin-chi-kung-presencial/2024-01-11/
LOCATION:almadetao\, Calle Gran Vía 33\, 6º-7\, Madrid\, Comunidad de Madrid\, 28013\, España
CATEGORIES:Agenda
ATTACH;FMTTYPE=image/jpeg:https://www.almadetao.com/wp-content/uploads/Foto-clase-calendario-para-web-1.jpg
ORGANIZER;CN="almadetao":MAILTO:tao@almadetao.com
END:VEVENT
BEGIN:VEVENT
DTSTART;TZID=Europe/Madrid:20240111T113000
DTEND;TZID=Europe/Madrid:20240111T124500
DTSTAMP:20260424T183539
CREATED:20230109T195950Z
LAST-MODIFIED:20231229T190753Z
UID:10000612-1704972600-1704977100@www.almadetao.com
SUMMARY:Clase de TAO YIN - CHI KUNG. Presencial
DESCRIPTION:
URL:https://www.almadetao.com/agenda/clase-de-tao-yin-chi-kung-online-y-presencial/2024-01-11/
LOCATION:almadetao\, Calle Gran Vía 33\, 6º-7\, Madrid\, Comunidad de Madrid\, 28013\, España
CATEGORIES:Agenda
ATTACH;FMTTYPE=image/jpeg:https://www.almadetao.com/wp-content/uploads/Foto-clase-calendario-para-web-1.jpg
ORGANIZER;CN="almadetao":MAILTO:tao@almadetao.com
END:VEVENT
BEGIN:VEVENT
DTSTART;TZID=Europe/Madrid:20240111T193000
DTEND;TZID=Europe/Madrid:20240111T204500
DTSTAMP:20260424T183539
CREATED:20240627T081745Z
LAST-MODIFIED:20240627T081745Z
UID:10000833-1705001400-1705005900@www.almadetao.com
SUMMARY:Clase de TAO YIN - CHI KUNG. Presencial y Online
DESCRIPTION:
URL:https://www.almadetao.com/agenda/clase-de-tao-yin-chi-kung-presencial/2024-01-11/
LOCATION:almadetao\, Calle Gran Vía 33\, 6º-7\, Madrid\, Comunidad de Madrid\, 28013\, España
CATEGORIES:Agenda
ATTACH;FMTTYPE=image/jpeg:https://www.almadetao.com/wp-content/uploads/Foto-clase-calendario-para-web-1.jpg
ORGANIZER;CN="almadetao":MAILTO:tao@almadetao.com
END:VEVENT
BEGIN:VEVENT
DTSTART;TZID=Europe/Madrid:20240116T100000
DTEND;TZID=Europe/Madrid:20240116T111500
DTSTAMP:20260424T183539
CREATED:20230110T161148Z
LAST-MODIFIED:20231229T192344Z
UID:10000748-1705399200-1705403700@www.almadetao.com
SUMMARY:Clase de TAO YIN - CHI KUNG. Presencial y Online
DESCRIPTION:
URL:https://www.almadetao.com/agenda/clase-de-tao-yin-chi-kung-presencial/2024-01-16/
LOCATION:almadetao\, Calle Gran Vía 33\, 6º-7\, Madrid\, Comunidad de Madrid\, 28013\, España
CATEGORIES:Agenda
ATTACH;FMTTYPE=image/jpeg:https://www.almadetao.com/wp-content/uploads/Foto-clase-calendario-para-web-1.jpg
ORGANIZER;CN="almadetao":MAILTO:tao@almadetao.com
END:VEVENT
BEGIN:VEVENT
DTSTART;TZID=Europe/Madrid:20240116T110000
DTEND;TZID=Europe/Madrid:20240116T190000
DTSTAMP:20260424T183539
CREATED:20231031T192245Z
LAST-MODIFIED:20231116T074107Z
UID:10000154-1705402800-1705431600@www.almadetao.com
SUMMARY:Tao en Movimiento: Intensivo de Tao Yin\, Chi Kung y Tai Chi
DESCRIPTION:INSCRIPCIONES ABIERTAS\n\n\n\n\n\n	TAO EN MOVIMIENTO\n\n\n	INTENSIVO DE TAO YIN\,\n\n\n	CHI KUNG Y TAI CHI\n\n\n\n\n\n	PRÓXIMO CURSO PRESENCIAL en MONTEVIDEO \n\n\n	16\, 17 y 18 de enero 2024\n\n\n\n\nDETALLES DEL CURSO
URL:https://www.almadetao.com/agenda/tao-en-movimiento-intensivo-de-tao-yin-chi-kung-y-tai-chi-2/2024-01-16/
LOCATION:Casa Purificación Montevideo. Uruguay\, C/Basilio Pereyra de la Luz 1333\, Montevideo\, Montevideo\, 11300\, Uruguay
CATEGORIES:Agenda
ATTACH;FMTTYPE=image/jpeg:https://www.almadetao.com/wp-content/uploads/adrien-ledoux-dex0xapoTvQ-unsplash-scaled.jpg
END:VEVENT
BEGIN:VEVENT
DTSTART;TZID=Europe/Madrid:20240116T180000
DTEND;TZID=Europe/Madrid:20240116T191500
DTSTAMP:20260424T183539
CREATED:20240627T081744Z
LAST-MODIFIED:20240627T081744Z
UID:10000803-1705428000-1705432500@www.almadetao.com
SUMMARY:Clase de TAO YIN - CHI KUNG. Presencial y Online
DESCRIPTION:
URL:https://www.almadetao.com/agenda/clase-de-tao-yin-chi-kung-presencial/2024-01-16/
LOCATION:almadetao\, Calle Gran Vía 33\, 6º-7\, Madrid\, Comunidad de Madrid\, 28013\, España
CATEGORIES:Agenda
ATTACH;FMTTYPE=image/jpeg:https://www.almadetao.com/wp-content/uploads/Foto-clase-calendario-para-web-1.jpg
ORGANIZER;CN="almadetao":MAILTO:tao@almadetao.com
END:VEVENT
BEGIN:VEVENT
DTSTART;TZID=Europe/Madrid:20240117T100000
DTEND;TZID=Europe/Madrid:20240117T180000
DTSTAMP:20260424T183539
CREATED:20231031T192245Z
LAST-MODIFIED:20231116T074107Z
UID:10000155-1705485600-1705514400@www.almadetao.com
SUMMARY:Tao en Movimiento: Intensivo de Tao Yin\, Chi Kung y Tai Chi
DESCRIPTION:INSCRIPCIONES ABIERTAS\n\n\n\n\n\n	TAO EN MOVIMIENTO\n\n\n	INTENSIVO DE TAO YIN\,\n\n\n	CHI KUNG Y TAI CHI\n\n\n\n\n\n	PRÓXIMO CURSO PRESENCIAL en MONTEVIDEO \n\n\n	16\, 17 y 18 de enero 2024\n\n\n\n\nDETALLES DEL CURSO
URL:https://www.almadetao.com/agenda/tao-en-movimiento-intensivo-de-tao-yin-chi-kung-y-tai-chi-2/2024-01-17/
LOCATION:Casa Purificación Montevideo. Uruguay\, C/Basilio Pereyra de la Luz 1333\, Montevideo\, Montevideo\, 11300\, Uruguay
CATEGORIES:Agenda
ATTACH;FMTTYPE=image/jpeg:https://www.almadetao.com/wp-content/uploads/adrien-ledoux-dex0xapoTvQ-unsplash-scaled.jpg
END:VEVENT
BEGIN:VEVENT
DTSTART;TZID=Europe/Madrid:20240118T100000
DTEND;TZID=Europe/Madrid:20240118T111500
DTSTAMP:20260424T183539
CREATED:20230110T161148Z
LAST-MODIFIED:20231229T192344Z
UID:10000749-1705572000-1705576500@www.almadetao.com
SUMMARY:Clase de TAO YIN - CHI KUNG. Presencial y Online
DESCRIPTION:
URL:https://www.almadetao.com/agenda/clase-de-tao-yin-chi-kung-presencial/2024-01-18/
LOCATION:almadetao\, Calle Gran Vía 33\, 6º-7\, Madrid\, Comunidad de Madrid\, 28013\, España
CATEGORIES:Agenda
ATTACH;FMTTYPE=image/jpeg:https://www.almadetao.com/wp-content/uploads/Foto-clase-calendario-para-web-1.jpg
ORGANIZER;CN="almadetao":MAILTO:tao@almadetao.com
END:VEVENT
BEGIN:VEVENT
DTSTART;TZID=Europe/Madrid:20240118T100000
DTEND;TZID=Europe/Madrid:20240118T180000
DTSTAMP:20260424T183539
CREATED:20231031T192245Z
LAST-MODIFIED:20231116T074107Z
UID:10000156-1705572000-1705600800@www.almadetao.com
SUMMARY:Tao en Movimiento: Intensivo de Tao Yin\, Chi Kung y Tai Chi
DESCRIPTION:INSCRIPCIONES ABIERTAS\n\n\n\n\n\n	TAO EN MOVIMIENTO\n\n\n	INTENSIVO DE TAO YIN\,\n\n\n	CHI KUNG Y TAI CHI\n\n\n\n\n\n	PRÓXIMO CURSO PRESENCIAL en MONTEVIDEO \n\n\n	16\, 17 y 18 de enero 2024\n\n\n\n\nDETALLES DEL CURSO
URL:https://www.almadetao.com/agenda/tao-en-movimiento-intensivo-de-tao-yin-chi-kung-y-tai-chi-2/2024-01-18/
LOCATION:Casa Purificación Montevideo. Uruguay\, C/Basilio Pereyra de la Luz 1333\, Montevideo\, Montevideo\, 11300\, Uruguay
CATEGORIES:Agenda
ATTACH;FMTTYPE=image/jpeg:https://www.almadetao.com/wp-content/uploads/adrien-ledoux-dex0xapoTvQ-unsplash-scaled.jpg
END:VEVENT
BEGIN:VEVENT
DTSTART;TZID=Europe/Madrid:20240118T113000
DTEND;TZID=Europe/Madrid:20240118T124500
DTSTAMP:20260424T183539
CREATED:20230109T195950Z
LAST-MODIFIED:20231229T190753Z
UID:10000613-1705577400-1705581900@www.almadetao.com
SUMMARY:Clase de TAO YIN - CHI KUNG. Presencial
DESCRIPTION:
URL:https://www.almadetao.com/agenda/clase-de-tao-yin-chi-kung-online-y-presencial/2024-01-18/
LOCATION:almadetao\, Calle Gran Vía 33\, 6º-7\, Madrid\, Comunidad de Madrid\, 28013\, España
CATEGORIES:Agenda
ATTACH;FMTTYPE=image/jpeg:https://www.almadetao.com/wp-content/uploads/Foto-clase-calendario-para-web-1.jpg
ORGANIZER;CN="almadetao":MAILTO:tao@almadetao.com
END:VEVENT
BEGIN:VEVENT
DTSTART;TZID=Europe/Madrid:20240118T180000
DTEND;TZID=Europe/Madrid:20240118T191500
DTSTAMP:20260424T183539
CREATED:20240627T081740Z
LAST-MODIFIED:20240627T081740Z
UID:10000666-1705600800-1705605300@www.almadetao.com
SUMMARY:Clase de TAO YIN - CHI KUNG. Presencial
DESCRIPTION:
URL:https://www.almadetao.com/agenda/clase-de-tao-yin-chi-kung-online-y-presencial/2024-01-18/
LOCATION:almadetao\, Calle Gran Vía 33\, 6º-7\, Madrid\, Comunidad de Madrid\, 28013\, España
CATEGORIES:Agenda
ATTACH;FMTTYPE=image/jpeg:https://www.almadetao.com/wp-content/uploads/Foto-clase-calendario-para-web-1.jpg
ORGANIZER;CN="almadetao":MAILTO:tao@almadetao.com
END:VEVENT
BEGIN:VEVENT
DTSTART;TZID=Europe/Madrid:20240118T193000
DTEND;TZID=Europe/Madrid:20240118T204500
DTSTAMP:20260424T183539
CREATED:20240627T081745Z
LAST-MODIFIED:20240627T081745Z
UID:10000834-1705606200-1705610700@www.almadetao.com
SUMMARY:Clase de TAO YIN - CHI KUNG. Presencial y Online
DESCRIPTION:
URL:https://www.almadetao.com/agenda/clase-de-tao-yin-chi-kung-presencial/2024-01-18/
LOCATION:almadetao\, Calle Gran Vía 33\, 6º-7\, Madrid\, Comunidad de Madrid\, 28013\, España
CATEGORIES:Agenda
ATTACH;FMTTYPE=image/jpeg:https://www.almadetao.com/wp-content/uploads/Foto-clase-calendario-para-web-1.jpg
ORGANIZER;CN="almadetao":MAILTO:tao@almadetao.com
END:VEVENT
BEGIN:VEVENT
DTSTART;TZID=Europe/Madrid:20240119T100000
DTEND;TZID=Europe/Madrid:20240119T140000
DTSTAMP:20260424T183539
CREATED:20231130T192550Z
LAST-MODIFIED:20231228T093331Z
UID:10000166-1705658400-1705672800@www.almadetao.com
SUMMARY:Intensivo de Meditación - Menú Degustación de Diferentes Escuelas Meditativas - Presencial en Montevideo
DESCRIPTION:INTENSIVO DE MEDITACIÓN\n\n\n	MENÚ DEGUSTACIÓN DE DIFERENTES ESCUELAS MEDITATIVAS\n\n\n	PRESENCIAL EN MONTEVIDEO – 19 DE ENERO 2024\n\n\n\n\n\n\n\n\n\n\n\n\n\n\n\n\n\n\n\n\n\n\n\n\n\n\n\n\nINSCRIPCIONES ABIERTAS\n\n\n\n\n\n\n\n\n\n\n\n\n\nTe invitamos a sumergirte en un viaje de autodescubrimiento a través de nuestro Intensivo de Meditación\, un Menú Degustación que abraza la riqueza de las diversas tradiciones meditativas. Este exclusivo espacio te ofrece una experiencia única al explorar prácticas provenientes de distintas escuelas\, como el Yoga\, el Zen\, el Budismo y el Tao.\nSabemos que cada individuo es único por eso\, este intensivo tiene como objetivo ayudar a los participantes a encontrar la meditación que resuene más profundamente con su ser interior.\nDesde la serenidad Zen que se enfoca en la atención plena hasta las prácticas Taoístas que buscan la armonía con la naturaleza\, el curso\,  presenta un banquete de opciones espirituales. A través de la experimentación y la orientación experta\, los participantes podrán descubrir la meditación que mejor se adapte a sus necesidades\, personalidades y objetivos.\nInvestigaremos diferentes posturas de meditación\, movimientos energéticos\, mantras y mudras.\nEste curso va más allá de la instrucción convencional; es una invitación a degustar\, explorar\, aprender y abrazar la diversidad de las prácticas meditativas. Al final\, cada participante llevará consigo una herramienta única y personalizada para cultivar la calma y la claridad en su vida cotidiana.\nEl curso incluye cuaderno de apuntes\, videos y audios para dar continuidad a la práctica.\n\n\n\n\n \n\n\n\n\n\n\n\n\n\n\n\n\n\n\n\n	ESTE CURSO VA DIRIGIDO A PERSONAS QUE DESEEN:\n\n\n\n\n\n\n\n\n\n\n\n\n\n\n\n\nGestionar las emociones.\n\n \n\n\n\n\n\n\n\n\nFomentar el bienestar y la calidad de vida\n\n \n\n\n\n\n\n\n\n\nHacer prácticas de diferentes escuelas meditativas.\n\n \n\n\n\n\n\n\n\n\nSerenar la mente\n\n \n\n\n\n\n\n\n\n\n\n\n\n\n\n\n\n\n\n\n\n\n\nSABER MÁS\n\n\n\n\n\n\n\n\n\n\n\n\n\n\n\n\n\n\n\n\nUbicación\n\nCASA PURIFICACIÓN MONTEVIDEO\nC/Basilio Pererira de la Luz 1333\n11300 – Montevideo – Uruguay\n\n\n\n\n\n\n\n\nFecha y horario:\n\nViernes  19 de enero\nde 10:00 a 18:00 horas.\n\n\n\n\n\n\n\n\n\nAportación:\n\n5.000 pesos uruguayos\n(incluye material y grabaciones)\n\n\n\n\n\n\n\n\n\n\n\n\n\n\n\n\n\n\nRESERVAR\n\n\n\n\n\n\n\n\n\n\n\n\n\n\n\n\n\n\n\n\n\n\n\n\n\n\n\n\n\n\n\n\n\n\n\n\n\n\n\n\n\n\n \n\n\n\n«La práctica meditativa no busca cambiar la mente\, sino comprenderla. En esa comprensión\, la transformación naturalmente ocurre.» Chogyäm Trungpa\n\n\n\n\n\n\n\n\n\n\n\n\n\n\n\n\n\n\n\n\n\n\n\n\n\n\n\n\n\n\n\n\n\n\n\n\n\n\n\n\n\n\n\n\n\n\n\n	Profesor:\n\nÁngel García almadetao\, Me dedico a la Docencia de Profesores de Tao y de Meditación. Autor de los libros: «Tao Sexual Amor Sanador» y «Tao para Vivir» de Ed. Oberón.\n\n\n\n\n\nTwitter\n\n\nPinterest\n\n\nFacebook\n\n\n\n\n\n\n\n\n\n\n\n\n\n\n\n\n\nInscripciones en:\ntao@almadetao.com
URL:https://www.almadetao.com/agenda/viviendo-desde-el-estado-de-gozo-intensivo-de-meditacion-2-3/
LOCATION:Madrid\, España
CATEGORIES:Agenda
ATTACH;FMTTYPE=image/jpeg:https://www.almadetao.com/wp-content/uploads/900-x-600.jpg
END:VEVENT
BEGIN:VEVENT
DTSTART;TZID=Europe/Madrid:20240120T090000
DTEND;TZID=Europe/Madrid:20240120T180000
DTSTAMP:20260424T183539
CREATED:20231101T175249Z
LAST-MODIFIED:20231229T182807Z
UID:10000159-1705741200-1705773600@www.almadetao.com
SUMMARY:Curso Presencial: Aprender a Transformar el Estrés en Vitalidad. Iniciación al Tao
DESCRIPTION:INSCRIPCIONES ABIERTAS\n\n\n	20 y 21 de enero 2024 en Montevideo\n\n\n\n\n\n\n\n\n\n\n\n\n\n\n\n\n\n\n\n\n\n\n\n\n\n\n\n\n\n	Curso Presencial: Aprender a Transformar el Estrés en Vitalidad. Iniciación al Tao \n\n\n\n\n\n\n\n\n\n\n\n\n\n\nTransformar el estrés en vitalidad es posible. El estrés es un estado natural que nos ayuda a estar alertas\, o despiertos\, lo que ocurre es que con nuestro estilo de vida acelerado\, preocupaciones o incertidumbres\, el estrés se desequilibra y tiene consecuencias dañinas para nuestra salud. En este curso vas a aprender a transformar la energía que genera el estrés y convertirla en vitalidad\, mediante prácticas ancestrales y eficaces que ofrece el TAO.\n  \n¿QUÉ ES EL TAO?\n\n  El tao es el camino para alcanzar el equilibrio físico\, energético\, emocional\, mental y espiritual.\nEl Tao es una filosofía ancestral\, un camino de consciencia práctico y vivencial que investiga las leyes naturales de la salud y el equilibrio. Este curso profundiza en el estudio del Ser Humano\, en el origen de los problemas y las soluciones posibles.\nEl curso de Iniciación al Tao\, actualiza sus eseñanzas para aplicarlas a nuestra vida diaria y aprender a:\n\n\n\n\n\n\n\n\n\n\n\n\n\n\n\n\n\n\n\n\n\n\n\n\n\n\nGestionar las emociones\n\n \n\n\n\n\n\n\n\n\nTransformar el estrés en Vitalidad\n\n \n\n\n\n\n\n\n\n\nMejorar la salud mediante una nueva relación con nuestro cuerpo.\n\n \n\n\n\n\n\n\n\n\nSerenar la mente\n\n \n\n\n\n\n\n\n\n\n\n\n\n\n\n\n\n\n\n\n\n\n\n\n\n\n\n\n\n\n\n\n\n\n\n\n\n\n\n\n\n\n\n\n\n\n\n\n\n\n\n\n\n\n\n\n\n\n\n\n\n\n\nPRESENCIAL\n\nCasa de Purificación Montevideo.\nC/Basilio Pereyra de la Luz 1333\n11300 Montevideo. \n\n\n\n\n\n\n\n\nFECHA y HORARIO:\n\n– Sábado 20 de enero de 9:00 a 14:00 y de 15:00 a 18:00 \n– Domingo 21 de enero de 9:00 a 13:30 \n\n\n\n\n\n\n\n\nAPORTACIÓN:\n\n$ 6.000 Pesos Uruguayos \n\n\n\n\n\n\n\n\n\n\n\n\n\n\n\n\n\n\nINFORMACIÓN Y RESERVAS\n\n\n\n\n\n\n\n\n\n\n\n\n\n\n\n\n\n\n\n\n\n\n\n\n\n\n\n\n\n\n \n\n\n \n\n\n \n\n\n\nDentro de nosotr@s está la semilla de la perfección que busca el entorno adecuado para germinar. En nuestro interior subyace el punto de unión con el entorno\, que es el equilibrio\, el problema es que a tendencia al desequilibrio\, también es una ley universal\n\n\n\n\n\n\n\n\n\n\n\n\n\n\n\n\n\n\n\n\n\n\n\n\n\n\n\n\n\n\n\n\n\n\n\n\n\n\n\n\nPROFESOR: Ángel García almadetao\,  Formador Docente de Profesores de Tao y de Meditación\, con 28 años de experiencia. Co-autor de los libros: «Tao Sexual Amor Sanador» y «Tao para Vivir» de Ed. Oberón.\n\n\n\n\n\nTwitter\n\n\nPinterest\n\n\nFacebook\n\n\n\n\n\n\n\n\n\n\n\n\n\n\n\n\n\n\n	MÁS ARTÍCULOS SOBRE TAO EN MI BLOG:\n\n\n\n\n\n\n\n\n\n\n\n\n\n\nEL LINAJE DEL TAO\n\n\n\nEL PODER DE LA SONRISA\n\n\n\nTAO YIN Y FIBROMIALGIA\n\n\n\n\n\n\n\n\n\n\n\n\n\n\n\n\n\n\n\n\n\n\n\n\n\n\n\n\n\n\nINFORMACIÓN Y RESERVAS
URL:https://www.almadetao.com/agenda/transformar-estres-vitalidad-curso-iniciacion-al-tao-presencial-montevideo-2/2024-01-20/
LOCATION:Casa Purificación Montevideo. Uruguay\, C/Basilio Pereyra de la Luz 1333\, Montevideo\, Montevideo\, 11300\, Uruguay
CATEGORIES:Agenda
ATTACH;FMTTYPE=image/jpeg:https://www.almadetao.com/wp-content/uploads/Copia-de-Miniatura-de-Youtube-INICIACION-AL-TAO-enero-2024Miniatura-de-YouTube-900-x-600-px.jpg
END:VEVENT
BEGIN:VEVENT
DTSTART;TZID=Europe/Madrid:20240121T090000
DTEND;TZID=Europe/Madrid:20240121T133000
DTSTAMP:20260424T183539
CREATED:20231101T175249Z
LAST-MODIFIED:20231229T182807Z
UID:10000160-1705827600-1705843800@www.almadetao.com
SUMMARY:Curso Presencial: Aprender a Transformar el Estrés en Vitalidad. Iniciación al Tao
DESCRIPTION:INSCRIPCIONES ABIERTAS\n\n\n	20 y 21 de enero 2024 en Montevideo\n\n\n\n\n\n\n\n\n\n\n\n\n\n\n\n\n\n\n\n\n\n\n\n\n\n\n\n\n\n	Curso Presencial: Aprender a Transformar el Estrés en Vitalidad. Iniciación al Tao \n\n\n\n\n\n\n\n\n\n\n\n\n\n\nTransformar el estrés en vitalidad es posible. El estrés es un estado natural que nos ayuda a estar alertas\, o despiertos\, lo que ocurre es que con nuestro estilo de vida acelerado\, preocupaciones o incertidumbres\, el estrés se desequilibra y tiene consecuencias dañinas para nuestra salud. En este curso vas a aprender a transformar la energía que genera el estrés y convertirla en vitalidad\, mediante prácticas ancestrales y eficaces que ofrece el TAO.\n  \n¿QUÉ ES EL TAO?\n\n  El tao es el camino para alcanzar el equilibrio físico\, energético\, emocional\, mental y espiritual.\nEl Tao es una filosofía ancestral\, un camino de consciencia práctico y vivencial que investiga las leyes naturales de la salud y el equilibrio. Este curso profundiza en el estudio del Ser Humano\, en el origen de los problemas y las soluciones posibles.\nEl curso de Iniciación al Tao\, actualiza sus eseñanzas para aplicarlas a nuestra vida diaria y aprender a:\n\n\n\n\n\n\n\n\n\n\n\n\n\n\n\n\n\n\n\n\n\n\n\n\n\n\nGestionar las emociones\n\n \n\n\n\n\n\n\n\n\nTransformar el estrés en Vitalidad\n\n \n\n\n\n\n\n\n\n\nMejorar la salud mediante una nueva relación con nuestro cuerpo.\n\n \n\n\n\n\n\n\n\n\nSerenar la mente\n\n \n\n\n\n\n\n\n\n\n\n\n\n\n\n\n\n\n\n\n\n\n\n\n\n\n\n\n\n\n\n\n\n\n\n\n\n\n\n\n\n\n\n\n\n\n\n\n\n\n\n\n\n\n\n\n\n\n\n\n\n\n\nPRESENCIAL\n\nCasa de Purificación Montevideo.\nC/Basilio Pereyra de la Luz 1333\n11300 Montevideo. \n\n\n\n\n\n\n\n\nFECHA y HORARIO:\n\n– Sábado 20 de enero de 9:00 a 14:00 y de 15:00 a 18:00 \n– Domingo 21 de enero de 9:00 a 13:30 \n\n\n\n\n\n\n\n\nAPORTACIÓN:\n\n$ 6.000 Pesos Uruguayos \n\n\n\n\n\n\n\n\n\n\n\n\n\n\n\n\n\n\nINFORMACIÓN Y RESERVAS\n\n\n\n\n\n\n\n\n\n\n\n\n\n\n\n\n\n\n\n\n\n\n\n\n\n\n\n\n\n\n \n\n\n \n\n\n \n\n\n\nDentro de nosotr@s está la semilla de la perfección que busca el entorno adecuado para germinar. En nuestro interior subyace el punto de unión con el entorno\, que es el equilibrio\, el problema es que a tendencia al desequilibrio\, también es una ley universal\n\n\n\n\n\n\n\n\n\n\n\n\n\n\n\n\n\n\n\n\n\n\n\n\n\n\n\n\n\n\n\n\n\n\n\n\n\n\n\n\nPROFESOR: Ángel García almadetao\,  Formador Docente de Profesores de Tao y de Meditación\, con 28 años de experiencia. Co-autor de los libros: «Tao Sexual Amor Sanador» y «Tao para Vivir» de Ed. Oberón.\n\n\n\n\n\nTwitter\n\n\nPinterest\n\n\nFacebook\n\n\n\n\n\n\n\n\n\n\n\n\n\n\n\n\n\n\n	MÁS ARTÍCULOS SOBRE TAO EN MI BLOG:\n\n\n\n\n\n\n\n\n\n\n\n\n\n\nEL LINAJE DEL TAO\n\n\n\nEL PODER DE LA SONRISA\n\n\n\nTAO YIN Y FIBROMIALGIA\n\n\n\n\n\n\n\n\n\n\n\n\n\n\n\n\n\n\n\n\n\n\n\n\n\n\n\n\n\n\nINFORMACIÓN Y RESERVAS
URL:https://www.almadetao.com/agenda/transformar-estres-vitalidad-curso-iniciacion-al-tao-presencial-montevideo-2/2024-01-21/
LOCATION:Casa Purificación Montevideo. Uruguay\, C/Basilio Pereyra de la Luz 1333\, Montevideo\, Montevideo\, 11300\, Uruguay
CATEGORIES:Agenda
ATTACH;FMTTYPE=image/jpeg:https://www.almadetao.com/wp-content/uploads/Copia-de-Miniatura-de-Youtube-INICIACION-AL-TAO-enero-2024Miniatura-de-YouTube-900-x-600-px.jpg
END:VEVENT
BEGIN:VEVENT
DTSTART;TZID=Europe/Madrid:20240123T100000
DTEND;TZID=Europe/Madrid:20240123T111500
DTSTAMP:20260424T183539
CREATED:20230110T161148Z
LAST-MODIFIED:20231229T192344Z
UID:10000750-1706004000-1706008500@www.almadetao.com
SUMMARY:Clase de TAO YIN - CHI KUNG. Presencial y Online
DESCRIPTION:
URL:https://www.almadetao.com/agenda/clase-de-tao-yin-chi-kung-presencial/2024-01-23/
LOCATION:almadetao\, Calle Gran Vía 33\, 6º-7\, Madrid\, Comunidad de Madrid\, 28013\, España
CATEGORIES:Agenda
ATTACH;FMTTYPE=image/jpeg:https://www.almadetao.com/wp-content/uploads/Foto-clase-calendario-para-web-1.jpg
ORGANIZER;CN="almadetao":MAILTO:tao@almadetao.com
END:VEVENT
BEGIN:VEVENT
DTSTART;TZID=Europe/Madrid:20240123T180000
DTEND;TZID=Europe/Madrid:20240123T191500
DTSTAMP:20260424T183539
CREATED:20240627T081744Z
LAST-MODIFIED:20240627T081744Z
UID:10000804-1706032800-1706037300@www.almadetao.com
SUMMARY:Clase de TAO YIN - CHI KUNG. Presencial y Online
DESCRIPTION:
URL:https://www.almadetao.com/agenda/clase-de-tao-yin-chi-kung-presencial/2024-01-23/
LOCATION:almadetao\, Calle Gran Vía 33\, 6º-7\, Madrid\, Comunidad de Madrid\, 28013\, España
CATEGORIES:Agenda
ATTACH;FMTTYPE=image/jpeg:https://www.almadetao.com/wp-content/uploads/Foto-clase-calendario-para-web-1.jpg
ORGANIZER;CN="almadetao":MAILTO:tao@almadetao.com
END:VEVENT
BEGIN:VEVENT
DTSTART;TZID=Europe/Madrid:20240125T100000
DTEND;TZID=Europe/Madrid:20240125T111500
DTSTAMP:20260424T183539
CREATED:20230110T161148Z
LAST-MODIFIED:20231229T192344Z
UID:10000751-1706176800-1706181300@www.almadetao.com
SUMMARY:Clase de TAO YIN - CHI KUNG. Presencial y Online
DESCRIPTION:
URL:https://www.almadetao.com/agenda/clase-de-tao-yin-chi-kung-presencial/2024-01-25/
LOCATION:almadetao\, Calle Gran Vía 33\, 6º-7\, Madrid\, Comunidad de Madrid\, 28013\, España
CATEGORIES:Agenda
ATTACH;FMTTYPE=image/jpeg:https://www.almadetao.com/wp-content/uploads/Foto-clase-calendario-para-web-1.jpg
ORGANIZER;CN="almadetao":MAILTO:tao@almadetao.com
END:VEVENT
BEGIN:VEVENT
DTSTART;TZID=Europe/Madrid:20240125T113000
DTEND;TZID=Europe/Madrid:20240125T124500
DTSTAMP:20260424T183539
CREATED:20230109T195950Z
LAST-MODIFIED:20231229T190753Z
UID:10000614-1706182200-1706186700@www.almadetao.com
SUMMARY:Clase de TAO YIN - CHI KUNG. Presencial
DESCRIPTION:
URL:https://www.almadetao.com/agenda/clase-de-tao-yin-chi-kung-online-y-presencial/2024-01-25/
LOCATION:almadetao\, Calle Gran Vía 33\, 6º-7\, Madrid\, Comunidad de Madrid\, 28013\, España
CATEGORIES:Agenda
ATTACH;FMTTYPE=image/jpeg:https://www.almadetao.com/wp-content/uploads/Foto-clase-calendario-para-web-1.jpg
ORGANIZER;CN="almadetao":MAILTO:tao@almadetao.com
END:VEVENT
BEGIN:VEVENT
DTSTART;TZID=Europe/Madrid:20240125T180000
DTEND;TZID=Europe/Madrid:20240125T191500
DTSTAMP:20260424T183539
CREATED:20240627T081740Z
LAST-MODIFIED:20240627T081740Z
UID:10000667-1706205600-1706210100@www.almadetao.com
SUMMARY:Clase de TAO YIN - CHI KUNG. Presencial
DESCRIPTION:
URL:https://www.almadetao.com/agenda/clase-de-tao-yin-chi-kung-online-y-presencial/2024-01-25/
LOCATION:almadetao\, Calle Gran Vía 33\, 6º-7\, Madrid\, Comunidad de Madrid\, 28013\, España
CATEGORIES:Agenda
ATTACH;FMTTYPE=image/jpeg:https://www.almadetao.com/wp-content/uploads/Foto-clase-calendario-para-web-1.jpg
ORGANIZER;CN="almadetao":MAILTO:tao@almadetao.com
END:VEVENT
BEGIN:VEVENT
DTSTART;TZID=Europe/Madrid:20240125T193000
DTEND;TZID=Europe/Madrid:20240125T204500
DTSTAMP:20260424T183539
CREATED:20240627T081745Z
LAST-MODIFIED:20240627T081745Z
UID:10000835-1706211000-1706215500@www.almadetao.com
SUMMARY:Clase de TAO YIN - CHI KUNG. Presencial y Online
DESCRIPTION:
URL:https://www.almadetao.com/agenda/clase-de-tao-yin-chi-kung-presencial/2024-01-25/
LOCATION:almadetao\, Calle Gran Vía 33\, 6º-7\, Madrid\, Comunidad de Madrid\, 28013\, España
CATEGORIES:Agenda
ATTACH;FMTTYPE=image/jpeg:https://www.almadetao.com/wp-content/uploads/Foto-clase-calendario-para-web-1.jpg
ORGANIZER;CN="almadetao":MAILTO:tao@almadetao.com
END:VEVENT
BEGIN:VEVENT
DTSTART;TZID=Europe/Madrid:20240130T100000
DTEND;TZID=Europe/Madrid:20240130T111500
DTSTAMP:20260424T183539
CREATED:20230110T161148Z
LAST-MODIFIED:20231229T192344Z
UID:10000752-1706608800-1706613300@www.almadetao.com
SUMMARY:Clase de TAO YIN - CHI KUNG. Presencial y Online
DESCRIPTION:
URL:https://www.almadetao.com/agenda/clase-de-tao-yin-chi-kung-presencial/2024-01-30/
LOCATION:almadetao\, Calle Gran Vía 33\, 6º-7\, Madrid\, Comunidad de Madrid\, 28013\, España
CATEGORIES:Agenda
ATTACH;FMTTYPE=image/jpeg:https://www.almadetao.com/wp-content/uploads/Foto-clase-calendario-para-web-1.jpg
ORGANIZER;CN="almadetao":MAILTO:tao@almadetao.com
END:VEVENT
BEGIN:VEVENT
DTSTART;TZID=Europe/Madrid:20240130T180000
DTEND;TZID=Europe/Madrid:20240130T191500
DTSTAMP:20260424T183539
CREATED:20240627T081744Z
LAST-MODIFIED:20240627T081744Z
UID:10000805-1706637600-1706642100@www.almadetao.com
SUMMARY:Clase de TAO YIN - CHI KUNG. Presencial y Online
DESCRIPTION:
URL:https://www.almadetao.com/agenda/clase-de-tao-yin-chi-kung-presencial/2024-01-30/
LOCATION:almadetao\, Calle Gran Vía 33\, 6º-7\, Madrid\, Comunidad de Madrid\, 28013\, España
CATEGORIES:Agenda
ATTACH;FMTTYPE=image/jpeg:https://www.almadetao.com/wp-content/uploads/Foto-clase-calendario-para-web-1.jpg
ORGANIZER;CN="almadetao":MAILTO:tao@almadetao.com
END:VEVENT
END:VCALENDAR